BEGIN:VCALENDAR
VERSION:2.0
PRODID:-//ChamberMaster//Event Calendar 2.0//EN
METHOD:PUBLISH
X-PUBLISHED-TTL:P1H
REFRESH-INTERVAL:P1H
CALSCALE:GREGORIAN
BEGIN:VTIMEZONE
TZID:America/New_York
BEGIN:DAYLIGHT
RRULE:FREQ=YEARLY;BYMONTH=3;BYDAY=2SU
DTSTART:20070101T000000
TZOFFSETFROM:-0500
TZOFFSETTO:-0400
TZNAME:Eastern Daylight Time
END:DAYLIGHT
BEGIN:STANDARD
RRULE:FREQ=YEARLY;BYMONTH=11;BYDAY=1SU
DTSTART:20070101T000000
TZOFFSETFROM:-0400
TZOFFSETTO:-0500
TZNAME:Eastern Standard Time
END:STANDARD
END:VTIMEZONE
BEGIN:VEVENT
DTSTART;TZID=America/New_York:20230809T170000
DTEND;TZID=America/New_York:20230809T190000
X-MICROSOFT-CDO-ALLDAYEVENT:FALSE
SUMMARY:Summer Social on the Charleston Princess
DESCRIPTION:Cruise the harbor\, connect and enjoy an evening of relaxation aboard the Charleston Princess\, during the Summer Social. Join us Wednesday\, August 9\, from 5-7p.m.\, as we take our Chamber connection event to the water. Spend the evening with co-workers\, socializing with fellow Chamber members or connecting with professionals you have yet to meet. Make sure to commemorate the evening by hopping in the 360 Photobooth from Smile N Pose! Boarding will begin at 5:00 p.m.\, with departure at 5:30 p.m. and return at 7:30 p.m. Enjoy each of the Charleston Princess' three levels. The lower deck is enclosed and climate controlled\, with the mid-deck being partially enclosed with beautiful views from the glass solarium and the top deck open to the air. Light appetizers will be provided\, while cash bars will be open throughout the ship.  Parking is available in the Aquarium Garage\, located at 24 Calhoun St. or at meters along Concord St. and Lauren St. \nPlease contact Celeste O'Keefe at cokeefe@charlestonchamber.org\, with any questions.\nWednesday\, August 95:00 - 7:00 p.m.Member Registration - $20Non-Member Registration - $30
X-ALT-DESC;FMTTYPE=text/html:<!DOCTYPE html><html><head><title></title></head><body aria-disabled="false"><p style="margin:0in\;font-family:Calibri\;font-size:11.0pt\;">Cruise the harbor\, connect and enjoy an evening of relaxation aboard the Charleston Princess\, during the Summer Social. Join us Wednesday\, August 9\, from 5-7p.m.\, as we take our Chamber connection event to the water. Spend the evening with co-workers\, socializing with fellow Chamber members or connecting with professionals you have yet to meet. Make sure to commemorate the evening by hopping in the 360 Photobooth from Smile N Pose!</p><p style="margin:0in\;font-family:Calibri\;font-size:11.0pt\;">&nbsp\;</p><p style="margin:0in\;font-family:Calibri\;font-size:11.0pt\;">Boarding will begin at 5:00 p.m.\, with departure at 5:30 p.m. and return at 7:30 p.m. Enjoy each of the Charleston Princess&#39\; three levels. The lower deck is enclosed and climate controlled\, with the mid-deck being partially enclosed with beautiful views from the glass solarium and the top deck open to the air. Light appetizers will be provided\, while cash bars will be open throughout the ship.&nbsp\;</p><p style="margin:0in\;font-family:Calibri\;font-size:11.0pt\;">&nbsp\;</p><p style="margin:0in\;font-family:Calibri\;font-size:11.0pt\;">Parking is available in the Aquarium Garage\, located at 24 Calhoun St. or at meters along Concord St. and Lauren St.&nbsp\;</p><p style="margin:0in\;font-family:Calibri\;font-size:11.0pt\;"><br></p><p style="margin:0in\;font-family:Calibri\;font-size:11.0pt\;">Please contact Celeste O&#39\;Keefe at <a data-fr-linked="true" fr-original-style="" href="mailto:cokeefe@charlestonchamber.org\," style="user-select: auto\;">cokeefe@charlestonchamber.org\,</a>&nbsp\;with any questions.</p><p style="margin:0in\;font-family:Calibri\;font-size:11.0pt\;"><br></p><p style="margin:0in\;font-family:Calibri\;font-size:11.0pt\;">Wednesday\, August 9</p><p style="margin:0in\;font-family:Calibri\;font-size:11.0pt\;">5:00 - 7:00 p.m.</p><p style="margin:0in\;font-family:Calibri\;font-size:11.0pt\;">Member Registration - $20</p><p style="margin:0in\;font-family:Calibri\;font-size:11.0pt\;">Non-Member Registration - $30</p></body></html>
LOCATION:10 Wharfside St Charleston 29401
UID:e.2817.818579
SEQUENCE:3
DTSTAMP:20260424T201841Z
URL:https://members.charlestonchamber.org/eventcalendar/Details/summer-social-on-the-charleston-princess-901028?sourceTypeId=Hub
END:VEVENT
END:VCALENDAR
