BEGIN:VCALENDAR
VERSION:2.0
PRODID:-//ChamberMaster//Event Calendar 2.0//EN
METHOD:PUBLISH
X-PUBLISHED-TTL:P1H
REFRESH-INTERVAL:P1H
CALSCALE:GREGORIAN
BEGIN:VTIMEZONE
TZID:America/New_York
BEGIN:DAYLIGHT
RRULE:FREQ=YEARLY;BYMONTH=3;BYDAY=2SU
DTSTART:20070101T000000
TZOFFSETFROM:-0500
TZOFFSETTO:-0400
TZNAME:Eastern Daylight Time
END:DAYLIGHT
BEGIN:STANDARD
RRULE:FREQ=YEARLY;BYMONTH=11;BYDAY=1SU
DTSTART:20070101T000000
TZOFFSETFROM:-0400
TZOFFSETTO:-0500
TZNAME:Eastern Standard Time
END:STANDARD
END:VTIMEZONE
BEGIN:VEVENT
DTSTART;TZID=America/New_York:20260519T090000
DTEND;TZID=America/New_York:20260519T100000
X-MICROSOFT-CDO-ALLDAYEVENT:FALSE
SUMMARY:Impact: Delivering Results in Education with Superintendent Anita Huggins
DESCRIPTION:Charleston County School District plays a defining role in the future of our region\, shaping both the next generation of talent and the long-term strength of our workforce.Join us for Impact: Delivering Results in Education with Superintendent Anita Huggins as she shares insights on the district's continued progress and the vision guiding its next chapter. From student readiness to innovation across schools\, our conversation will explore how the district is evolving to meet the needs of a growing community and preparing students for what comes next.Secure your seat to hear from district leadership and gain valuable perspective on what's ahead for education in our region.Event DetailsTuesday\, May 19\, 2026\n9:00   10:00 AM\nCheck-in\, coffee and connections begins at 8:30 AMHarbour Club at Westedge\n22 West Edge Street\, Suite 700\nCharleston\, SC 29403 Charleston Metro Chamber Members: $30Interested in becoming a Chamber member?  Learn more and join today!
X-ALT-DESC;FMTTYPE=text/html:<!DOCTYPE html><html><head><title></title></head><body aria-disabled="false"><p><meta charset="utf-8"></p><p>Charleston County School District plays a defining role in the future of our region\, shaping both the next generation of talent and the long-term strength of our workforce.</p><p>Join us for Impact: Delivering Results in Education with <a fr-original-style="" href="https://www.ccsdschools.com/about-us/administration" rel="noreferrer noopener" style="user-select: auto\;" target="_blank">Superintendent Anita Huggins</a> as she shares insights on the district&rsquo\;s continued progress and the vision guiding its next chapter. From student readiness to innovation across schools\, our conversation will explore how the district is evolving to meet the needs of a growing community and preparing students for what comes next.</p><p>Secure your seat to hear from district leadership and gain valuable perspective on what&rsquo\;s ahead for education in our region.</p><p><strong fr-original-style="" style="font-weight: 700\;"><u>Event Details</u></strong></p><p>Tuesday\, May 19\, 2026<br>9:00 &ndash\; 10:00 AM<br><meta charset="utf-8">Check-in\, coffee and connections begins at 8:30 AM</p><p>Harbour Club at Westedge<br>22 West Edge Street\, Suite 700<br>Charleston\, SC 29403&nbsp\;</p><p>Charleston Metro Chamber Members: $30</p><p>Interested in becoming a Chamber member?  <a fr-original-style="" href="https://www.charlestonchamber.org/join-the-chamber/" rel="noreferrer noopener" style="user-select: auto\;" target="_blank">Learn more and join today!</a></p></body></html>
LOCATION:22 WestEdge St. Ste. 700 Charleston SC 29403
UID:e.2817.1320226
SEQUENCE:3
DTSTAMP:20260422T121034Z
URL:https://members.charlestonchamber.org/eventcalendar/Details/impact-delivering-results-in-education-with-superintendent-anita-huggins-1547971?sourceTypeId=Hub
END:VEVENT
END:VCALENDAR
